BEGIN:VCALENDAR
VERSION:2.0
PRODID:-//Institut Solidaris - ECPv6.15.20//NONSGML v1.0//EN
CALSCALE:GREGORIAN
METHOD:PUBLISH
X-WR-CALNAME:Institut Solidaris
X-ORIGINAL-URL:https://www.institut-solidaris.be
X-WR-CALDESC:Évènements pour Institut Solidaris
REFRESH-INTERVAL;VALUE=DURATION:PT1H
X-Robots-Tag:noindex
X-PUBLISHED-TTL:PT1H
BEGIN:VTIMEZONE
TZID:Europe/Paris
BEGIN:DAYLIGHT
TZOFFSETFROM:+0100
TZOFFSETTO:+0200
TZNAME:CEST
DTSTART:20150329T010000
END:DAYLIGHT
BEGIN:STANDARD
TZOFFSETFROM:+0200
TZOFFSETTO:+0100
TZNAME:CET
DTSTART:20151025T010000
END:STANDARD
BEGIN:DAYLIGHT
TZOFFSETFROM:+0100
TZOFFSETTO:+0200
TZNAME:CEST
DTSTART:20160327T010000
END:DAYLIGHT
BEGIN:STANDARD
TZOFFSETFROM:+0200
TZOFFSETTO:+0100
TZNAME:CET
DTSTART:20161030T010000
END:STANDARD
BEGIN:DAYLIGHT
TZOFFSETFROM:+0100
TZOFFSETTO:+0200
TZNAME:CEST
DTSTART:20170326T010000
END:DAYLIGHT
BEGIN:STANDARD
TZOFFSETFROM:+0200
TZOFFSETTO:+0100
TZNAME:CET
DTSTART:20171029T010000
END:STANDARD
END:VTIMEZONE
BEGIN:VEVENT
DTSTART;VALUE=DATE:20161206
DTEND;VALUE=DATE:20161207
DTSTAMP:20260421T141140
CREATED:20161206T103830Z
LAST-MODIFIED:20161206T104339Z
UID:813-1480982400-1481068799@www.institut-solidaris.be
SUMMARY:Journée des Femmes
DESCRIPTION:Journée des Femmes organisée par les FPS
URL:https://www.institut-solidaris.be/index.php/event/journee-des-femmes/
LOCATION:ASBL FPS\, Rue st Jean\, Bruxelles\, Belgique
CATEGORIES:Familles
ATTACH;FMTTYPE=image/jpeg:https://www.institut-solidaris.be/wp-content/uploads/2016/10/iStock_88262803_Web.jpg
END:VEVENT
END:VCALENDAR